BEGIN:VCALENDAR
VERSION:2.0
PRODID:-//Beyond the Garden Gate - ECPv6.15.11//NONSGML v1.0//EN
CALSCALE:GREGORIAN
METHOD:PUBLISH
X-WR-CALNAME:Beyond the Garden Gate
X-ORIGINAL-URL:https://beyond-the-garden-gate.com
X-WR-CALDESC:Events for Beyond the Garden Gate
REFRESH-INTERVAL;VALUE=DURATION:PT1H
X-Robots-Tag:noindex
X-PUBLISHED-TTL:PT1H
BEGIN:VTIMEZONE
TZID:America/Chicago
BEGIN:DAYLIGHT
TZOFFSETFROM:-0600
TZOFFSETTO:-0500
TZNAME:CDT
DTSTART:20250309T080000
END:DAYLIGHT
BEGIN:STANDARD
TZOFFSETFROM:-0500
TZOFFSETTO:-0600
TZNAME:CST
DTSTART:20251102T070000
END:STANDARD
BEGIN:DAYLIGHT
TZOFFSETFROM:-0600
TZOFFSETTO:-0500
TZNAME:CDT
DTSTART:20260308T080000
END:DAYLIGHT
BEGIN:STANDARD
TZOFFSETFROM:-0500
TZOFFSETTO:-0600
TZNAME:CST
DTSTART:20261101T070000
END:STANDARD
BEGIN:DAYLIGHT
TZOFFSETFROM:-0600
TZOFFSETTO:-0500
TZNAME:CDT
DTSTART:20270314T080000
END:DAYLIGHT
BEGIN:STANDARD
TZOFFSETFROM:-0500
TZOFFSETTO:-0600
TZNAME:CST
DTSTART:20271107T070000
END:STANDARD
END:VTIMEZONE
BEGIN:VEVENT
DTSTART;TZID=America/Chicago:20260422T180000
DTEND;TZID=America/Chicago:20260422T200000
DTSTAMP:20260420T124241
CREATED:20260416T222014Z
LAST-MODIFIED:20260416T222128Z
UID:1268-1776880800-1776888000@beyond-the-garden-gate.com
SUMMARY:Science Night Live: Earth Day  ($30)
DESCRIPTION:Celebrate Earth Day with fellow science supporters featuring a food tasting from planet-friendly food vendors around Pensacola! \nExplore activities that we have shared with thousands of local students through funding from the National Academy of Sciences’ Gulf Research Program. \nThe $30 admission includes museum exploration\, food\, drinks\, and a view into how we engage our community in science discovery. Your ticket purchase supports the MESS Hall’s mission\, bringing hands-on science to learners across our community. \nApril 22\, 2026\n6pm – 8pm\nAges 21+
URL:https://beyond-the-garden-gate.com/event/science-night-live-earth-day/
LOCATION:Pensacola MESS Hall\, 418 E. Wright St\, Pensacola\, 32501\, United States
CATEGORIES:Fundraiser
ATTACH;FMTTYPE=image/jpeg:https://beyond-the-garden-gate.com/wp-content/uploads/2026/04/Science-Night-Live-2026.jpg
END:VEVENT
END:VCALENDAR