BEGIN:VCALENDAR
VERSION:2.0
PRODID:-//Beyond the Garden Gate - ECPv6.15.11//NONSGML v1.0//EN
CALSCALE:GREGORIAN
METHOD:PUBLISH
X-ORIGINAL-URL:https://beyond-the-garden-gate.com
X-WR-CALDESC:Events for Beyond the Garden Gate
REFRESH-INTERVAL;VALUE=DURATION:PT1H
X-Robots-Tag:noindex
X-PUBLISHED-TTL:PT1H
BEGIN:VTIMEZONE
TZID:America/Chicago
BEGIN:DAYLIGHT
TZOFFSETFROM:-0600
TZOFFSETTO:-0500
TZNAME:CDT
DTSTART:20250309T080000
END:DAYLIGHT
BEGIN:STANDARD
TZOFFSETFROM:-0500
TZOFFSETTO:-0600
TZNAME:CST
DTSTART:20251102T070000
END:STANDARD
BEGIN:DAYLIGHT
TZOFFSETFROM:-0600
TZOFFSETTO:-0500
TZNAME:CDT
DTSTART:20260308T080000
END:DAYLIGHT
BEGIN:STANDARD
TZOFFSETFROM:-0500
TZOFFSETTO:-0600
TZNAME:CST
DTSTART:20261101T070000
END:STANDARD
BEGIN:DAYLIGHT
TZOFFSETFROM:-0600
TZOFFSETTO:-0500
TZNAME:CDT
DTSTART:20270314T080000
END:DAYLIGHT
BEGIN:STANDARD
TZOFFSETFROM:-0500
TZOFFSETTO:-0600
TZNAME:CST
DTSTART:20271107T070000
END:STANDARD
END:VTIMEZONE
BEGIN:VEVENT
DTSTART;TZID=America/Chicago:20260211T100000
DTEND;TZID=America/Chicago:20260211T233000
DTSTAMP:20260425T173727
CREATED:20260207T215148Z
LAST-MODIFIED:20260207T215148Z
UID:1127-1770804000-1770852600@beyond-the-garden-gate.com
SUMMARY:Presentation - Propagation
DESCRIPTION:Join us at the Hoe & Hum Garden Club at Saint Francis Church in Gulf Breeze on Feb 11th. \nEmily will give a hands-on presentation on propagation\, including: \n\nStarting seeds\nPlanting bulbs and tubers\nStem and root cuttings\nDividing perennials\n\nJust in time for spring gardening! \nJoin us to get information\, get dirty\, and take a little something home with you!
URL:https://beyond-the-garden-gate.com/event/presentation-propagation/
LOCATION:Gulf Breeze Senior Center at St. Francis Church\, 1 St. Francis Dr.\, Gulf Breeze\, FL\, 32561\, United States
CATEGORIES:Hands-on Class,Presentation
ATTACH;FMTTYPE=image/jpeg:https://beyond-the-garden-gate.com/wp-content/uploads/2026/02/Propagation-event-pic.jpg
ORGANIZER;CN="Hoe & Hum Garden Club":MAILTO:gulfbreezeseniorcenter@gmail.com
END:VEVENT
END:VCALENDAR