BEGIN:VCALENDAR
VERSION:2.0
PRODID:-//Beyond the Garden Gate - ECPv6.15.11//NONSGML v1.0//EN
CALSCALE:GREGORIAN
METHOD:PUBLISH
X-ORIGINAL-URL:https://beyond-the-garden-gate.com
X-WR-CALDESC:Events for Beyond the Garden Gate
REFRESH-INTERVAL;VALUE=DURATION:PT1H
X-Robots-Tag:noindex
X-PUBLISHED-TTL:PT1H
BEGIN:VTIMEZONE
TZID:America/Chicago
BEGIN:DAYLIGHT
TZOFFSETFROM:-0600
TZOFFSETTO:-0500
TZNAME:CDT
DTSTART:20240310T080000
END:DAYLIGHT
BEGIN:STANDARD
TZOFFSETFROM:-0500
TZOFFSETTO:-0600
TZNAME:CST
DTSTART:20241103T070000
END:STANDARD
BEGIN:DAYLIGHT
TZOFFSETFROM:-0600
TZOFFSETTO:-0500
TZNAME:CDT
DTSTART:20250309T080000
END:DAYLIGHT
BEGIN:STANDARD
TZOFFSETFROM:-0500
TZOFFSETTO:-0600
TZNAME:CST
DTSTART:20251102T070000
END:STANDARD
BEGIN:DAYLIGHT
TZOFFSETFROM:-0600
TZOFFSETTO:-0500
TZNAME:CDT
DTSTART:20260308T080000
END:DAYLIGHT
BEGIN:STANDARD
TZOFFSETFROM:-0500
TZOFFSETTO:-0600
TZNAME:CST
DTSTART:20261101T070000
END:STANDARD
END:VTIMEZONE
BEGIN:VEVENT
DTSTART;TZID=America/Chicago:20251022T100000
DTEND;TZID=America/Chicago:20251022T113000
DTSTAMP:20260425T215719
CREATED:20251021T171257Z
LAST-MODIFIED:20251021T171257Z
UID:953-1761127200-1761132600@beyond-the-garden-gate.com
SUMMARY:Beekeeping in Gulf Breeze
DESCRIPTION:T’s Bees owners Teresa and Kevin Yates are enjoying the sweeter side of life by working together to harvest honey\, make honey products and sell their wares in their converted “Bee Buggy.” \nThis Gulf Breeze couple have turned their backyard beekeeping hobby into an award-winning business. \nJoin us at the Gulf Breeze Senior Center for a presentation on beekeeping in Gulf Breeze.
URL:https://beyond-the-garden-gate.com/event/beekeeping-in-gulf-breeze/
LOCATION:Gulf Breeze Senior Center at St. Francis Church\, 1 St. Francis Dr.\, Gulf Breeze\, FL\, 32561\, United States
CATEGORIES:Presentation
ATTACH;FMTTYPE=image/jpeg:https://beyond-the-garden-gate.com/wp-content/uploads/2025/10/Ts-Bees-Pic.jpg
ORGANIZER;CN="T's Bees":MAILTO:ts_bees@yahoo.com
END:VEVENT
BEGIN:VEVENT
DTSTART;TZID=America/Chicago:20251023T190000
DTEND;TZID=America/Chicago:20251023T210000
DTSTAMP:20260425T215719
CREATED:20251016T180820Z
LAST-MODIFIED:20251016T180820Z
UID:932-1761246000-1761253200@beyond-the-garden-gate.com
SUMMARY:Francis M Weston Audubon Society Meeting
DESCRIPTION:The Audubon Society presents Joe Reinman from St. Marks National Wildlife Refuge\n\n“Join us October 23 from 7:00-9:00 PM as we learn about St. Marks National Wildlife Refuge from retired St. Marks biologist\, Joe Reinman. \nThis gem of the Florida Panhandle is just three hours to the east of us and is the place to go for wintering waterfowl for our region. However\, St. Marks is so much more than ducks! \nWe meet at Pensacola State College’s main campus on 9th Avenue\, in the Baroco Center for Science and Technology\, bldg 21\, room 2142. \nOur meeting room is located near the corner of 9th Ave and Airport Blvd\, just across the breezeway from the Planetarium. \nParking is free and there is plenty of it! \nOur meetings are free and open to the public. Light refreshments and social time afterwards\, so bring your latest birding story to share! \nWe hope to see you there\, and feel free to bring a friend!” \n\nClick here for PSC maps.
URL:https://beyond-the-garden-gate.com/event/francis-m-weston-audubon-society-meeting/
LOCATION:Pensacola State College\, 1000 College Blvd.\, Pensacola\, FL\, 32504\, United States
CATEGORIES:Presentation
ATTACH;FMTTYPE=image/jpeg:https://beyond-the-garden-gate.com/wp-content/uploads/2024/12/FrancisMWeston-AudubonPcola.jpg
END:VEVENT
END:VCALENDAR