BEGIN:VCALENDAR
VERSION:2.0
PRODID:-//Beyond the Garden Gate - ECPv6.15.11//NONSGML v1.0//EN
CALSCALE:GREGORIAN
METHOD:PUBLISH
X-WR-CALNAME:Beyond the Garden Gate
X-ORIGINAL-URL:https://beyond-the-garden-gate.com
X-WR-CALDESC:Events for Beyond the Garden Gate
REFRESH-INTERVAL;VALUE=DURATION:PT1H
X-Robots-Tag:noindex
X-PUBLISHED-TTL:PT1H
BEGIN:VTIMEZONE
TZID:America/Chicago
BEGIN:DAYLIGHT
TZOFFSETFROM:-0600
TZOFFSETTO:-0500
TZNAME:CDT
DTSTART:20240310T080000
END:DAYLIGHT
BEGIN:STANDARD
TZOFFSETFROM:-0500
TZOFFSETTO:-0600
TZNAME:CST
DTSTART:20241103T070000
END:STANDARD
BEGIN:DAYLIGHT
TZOFFSETFROM:-0600
TZOFFSETTO:-0500
TZNAME:CDT
DTSTART:20250309T080000
END:DAYLIGHT
BEGIN:STANDARD
TZOFFSETFROM:-0500
TZOFFSETTO:-0600
TZNAME:CST
DTSTART:20251102T070000
END:STANDARD
BEGIN:DAYLIGHT
TZOFFSETFROM:-0600
TZOFFSETTO:-0500
TZNAME:CDT
DTSTART:20260308T080000
END:DAYLIGHT
BEGIN:STANDARD
TZOFFSETFROM:-0500
TZOFFSETTO:-0600
TZNAME:CST
DTSTART:20261101T070000
END:STANDARD
END:VTIMEZONE
BEGIN:VEVENT
DTSTART;TZID=America/Chicago:20250908T093000
DTEND;TZID=America/Chicago:20250908T110000
DTSTAMP:20260425T230617
CREATED:20250824T230844Z
LAST-MODIFIED:20250826T183526Z
UID:823-1757323800-1757329200@beyond-the-garden-gate.com
SUMMARY:Fall Gardening in Northwest Florida
DESCRIPTION:Unlike in other parts of the country\, fall is our best time to plant trees and tomatoes!  \nOur fall color is abundantly provided by wildflowers rather than falling leaves\, because our pollinators are still active through the season. \n Hummingbirds and other birds migrate through our area in the fall to decorate our gardens.   \nOur herbs are happier with the drop in humidity and most grow best in the fall.  \nThere are many plants available for cool weather color.  \nJoin us on Sept. 8th\, at 9:45 am to learn about fall gardening in our area.
URL:https://beyond-the-garden-gate.com/event/fall-gardening-in-northwest-florida/
LOCATION:Navarre Welcome Center\, 8543 Navarre Pkwy\, Navarre\, FL\, 32566\, United States
CATEGORIES:Presentation
ATTACH;FMTTYPE=image/jpeg:https://beyond-the-garden-gate.com/wp-content/uploads/2025/08/Navarre-Welcome-Center.jpg
END:VEVENT
BEGIN:VEVENT
DTSTART;TZID=America/Chicago:20250910T100000
DTEND;TZID=America/Chicago:20250910T113000
DTSTAMP:20260425T230617
CREATED:20250820T173641Z
LAST-MODIFIED:20250824T231058Z
UID:812-1757498400-1757503800@beyond-the-garden-gate.com
SUMMARY:Ups and Downs: Vines and Ground Covers in the Garden
DESCRIPTION:Join us on Wed.\, Sept. 10th\, at 10am to learn about using vines and ground covers in the garden.  \nVines can soften a landscape\, host a butterfly species\, provide privacy. Or vines can take over a garden\, and add a burden of maintenance. \n Ground covers can stop erosion; can grow where other plants won’t; and can be a substitute for turf grass\, saving maintenance. Or ground covers can be unruly and overgrow their area.   \nWe will discuss  which  vine and ground covers do well in our area\, and which might cause future problems. 
URL:https://beyond-the-garden-gate.com/event/vines-ground-cover-presentation/
LOCATION:Gulf Breeze Senior Center at St. Francis Church\, 1 St. Francis Dr.\, Gulf Breeze\, FL\, 32561\, United States
CATEGORIES:Presentation
ATTACH;FMTTYPE=image/jpeg:https://beyond-the-garden-gate.com/wp-content/uploads/2025/08/Ups-and-Downs.jpg
ORGANIZER;CN="Hoe & Hum Garden Club":MAILTO:gulfbreezeseniorcenter@gmail.com
END:VEVENT
END:VCALENDAR