BEGIN:VCALENDAR
VERSION:2.0
PRODID:-//Beyond the Garden Gate - ECPv6.15.11//NONSGML v1.0//EN
CALSCALE:GREGORIAN
METHOD:PUBLISH
X-ORIGINAL-URL:https://beyond-the-garden-gate.com
X-WR-CALDESC:Events for Beyond the Garden Gate
REFRESH-INTERVAL;VALUE=DURATION:PT1H
X-Robots-Tag:noindex
X-PUBLISHED-TTL:PT1H
BEGIN:VTIMEZONE
TZID:America/Chicago
BEGIN:DAYLIGHT
TZOFFSETFROM:-0600
TZOFFSETTO:-0500
TZNAME:CDT
DTSTART:20250309T080000
END:DAYLIGHT
BEGIN:STANDARD
TZOFFSETFROM:-0500
TZOFFSETTO:-0600
TZNAME:CST
DTSTART:20251102T070000
END:STANDARD
BEGIN:DAYLIGHT
TZOFFSETFROM:-0600
TZOFFSETTO:-0500
TZNAME:CDT
DTSTART:20260308T080000
END:DAYLIGHT
BEGIN:STANDARD
TZOFFSETFROM:-0500
TZOFFSETTO:-0600
TZNAME:CST
DTSTART:20261101T070000
END:STANDARD
BEGIN:DAYLIGHT
TZOFFSETFROM:-0600
TZOFFSETTO:-0500
TZNAME:CDT
DTSTART:20270314T080000
END:DAYLIGHT
BEGIN:STANDARD
TZOFFSETFROM:-0500
TZOFFSETTO:-0600
TZNAME:CST
DTSTART:20271107T070000
END:STANDARD
END:VTIMEZONE
BEGIN:VEVENT
DTSTART;TZID=America/Chicago:20260429T150000
DTEND;TZID=America/Chicago:20260429T160000
DTSTAMP:20260420T111010
CREATED:20260416T232349Z
LAST-MODIFIED:20260416T232723Z
UID:1277-1777474800-1777478400@beyond-the-garden-gate.com
SUMMARY:Webinar: Bird-Friendly Spring Q&A w/ American Bird Conservancy
DESCRIPTION:The American Bird Conservancy (ABC) is hosting a free webinar titled “Bird-Friendly Spring Q&A with ABC Experts” on Wednesday\, April 29\, 2026\, from 4:00 PM – 5:00 PM ET.\n\nWebinar Details:\n\nTopic: Preparing for a bird-friendly spring\, focusing on helping migratory birds like the Wood Thrush\, Ruby-throated Hummingbird\, and Western Tanager as they return to breed.\nKey Themes: Creating safe habitats\, mitigating threats such as windows\, pesticides\, and invasive species\, and providing stopover sites for rest and refueling.\nFormat: A live\, interactive Q&A session on Zoom.\nRegistration: Free\, with a recording available for those who cannot attend live. \n\n\n\nClick here to register (or the link above)\n\nThis session is part of ABC’s ongoing efforts in 2026 to engage the public in actionable bird conservation\, following a 2025 where the organization saw significant policy and habitat protection wins despite ongoing threats to environmental laws.
URL:https://beyond-the-garden-gate.com/event/webinar-bird-friendly-spring-qa-w-american-bird-conservancy/
LOCATION:Online Zoom Webinar
CATEGORIES:Zoom Webinar
ATTACH;FMTTYPE=image/jpeg:https://beyond-the-garden-gate.com/wp-content/uploads/2026/04/Bird-Friendly-Spring-American-Bird-Conservancy.jpg
END:VEVENT
END:VCALENDAR