BEGIN:VCALENDAR
VERSION:2.0
PRODID:-//Beyond the Garden Gate - ECPv6.15.11//NONSGML v1.0//EN
CALSCALE:GREGORIAN
METHOD:PUBLISH
X-WR-CALNAME:Beyond the Garden Gate
X-ORIGINAL-URL:https://beyond-the-garden-gate.com
X-WR-CALDESC:Events for Beyond the Garden Gate
REFRESH-INTERVAL;VALUE=DURATION:PT1H
X-Robots-Tag:noindex
X-PUBLISHED-TTL:PT1H
BEGIN:VTIMEZONE
TZID:America/Chicago
BEGIN:DAYLIGHT
TZOFFSETFROM:-0600
TZOFFSETTO:-0500
TZNAME:CDT
DTSTART:20250309T080000
END:DAYLIGHT
BEGIN:STANDARD
TZOFFSETFROM:-0500
TZOFFSETTO:-0600
TZNAME:CST
DTSTART:20251102T070000
END:STANDARD
BEGIN:DAYLIGHT
TZOFFSETFROM:-0600
TZOFFSETTO:-0500
TZNAME:CDT
DTSTART:20260308T080000
END:DAYLIGHT
BEGIN:STANDARD
TZOFFSETFROM:-0500
TZOFFSETTO:-0600
TZNAME:CST
DTSTART:20261101T070000
END:STANDARD
BEGIN:DAYLIGHT
TZOFFSETFROM:-0600
TZOFFSETTO:-0500
TZNAME:CDT
DTSTART:20270314T080000
END:DAYLIGHT
BEGIN:STANDARD
TZOFFSETFROM:-0500
TZOFFSETTO:-0600
TZNAME:CST
DTSTART:20271107T070000
END:STANDARD
END:VTIMEZONE
BEGIN:VEVENT
DTSTART;TZID=America/Chicago:20260420T090000
DTEND;TZID=America/Chicago:20260420T150000
DTSTAMP:20260420T022021
CREATED:20260416T223423Z
LAST-MODIFIED:20260416T223423Z
UID:1273-1776675600-1776697200@beyond-the-garden-gate.com
SUMMARY:Nature Heals: An Immersive Experience
DESCRIPTION:You’re invited to Nature Heals: An Immersive Experience on Monday\, April 20\, from 9 a.m. to 3 p.m. in the UWF Commons Auditorium. \nThis Usha Kundu\, MD College of Health event will feature a presentation of nature’s health benefits\, ways to incorporate nature as a health strategy\, and an interactive virtual nature experience. \nRegistration for Nature Heals: An Immersive Experience is free. \n  \nBuilding 22 – University Commons\, Auditorium
URL:https://beyond-the-garden-gate.com/event/nature-heals-an-immersive-experience/
LOCATION:University of West Florida\, 1563 Campus Dr\, Pensacola\, 32514\, United States
CATEGORIES:Workshop
ATTACH;FMTTYPE=image/jpeg:https://beyond-the-garden-gate.com/wp-content/uploads/2026/04/Nature-Heals-An-Immersive-Experience.jpg
ORGANIZER;CN="University of West Florida":MAILTO:jbush@uwf.edu
END:VEVENT
END:VCALENDAR